BEGIN:VCALENDAR
VERSION:2.0
PRODID:-//Indiana Recovery Council - ECPv6.6.4.2//NONSGML v1.0//EN
CALSCALE:GREGORIAN
METHOD:PUBLISH
X-WR-CALNAME:Indiana Recovery Council
X-ORIGINAL-URL:https://stigmaneverhelps.com
X-WR-CALDESC:Events for Indiana Recovery Council
REFRESH-INTERVAL;VALUE=DURATION:PT1H
X-Robots-Tag:noindex
X-PUBLISHED-TTL:PT1H
BEGIN:VTIMEZONE
TZID:America/Indiana/Indianapolis
BEGIN:DAYLIGHT
TZOFFSETFROM:-0500
TZOFFSETTO:-0400
TZNAME:EDT
DTSTART:20190310T070000
END:DAYLIGHT
BEGIN:STANDARD
TZOFFSETFROM:-0400
TZOFFSETTO:-0500
TZNAME:EST
DTSTART:20191103T060000
END:STANDARD
TZID:UTC
BEGIN:STANDARD
TZOFFSETFROM:+0000
TZOFFSETTO:+0000
TZNAME:UTC
DTSTART:20190101T000000
END:STANDARD
TZID:America/Indiana/Tell_City
BEGIN:DAYLIGHT
TZOFFSETFROM:-0600
TZOFFSETTO:-0500
TZNAME:CDT
DTSTART:20190310T080000
END:DAYLIGHT
BEGIN:STANDARD
TZOFFSETFROM:-0500
TZOFFSETTO:-0600
TZNAME:CST
DTSTART:20191103T070000
END:STANDARD
END:VTIMEZONE
BEGIN:VEVENT
DTSTART;VALUE=DATE:20191011
DTEND;VALUE=DATE:20191012
DTSTAMP:20260420T083604
CREATED:20190501T130055Z
LAST-MODIFIED:20190611T014559Z
UID:31-1570752000-1570838399@stigmaneverhelps.com
SUMMARY:NAMI Indiana State Conference
DESCRIPTION:Marriott North
URL:https://stigmaneverhelps.com/event/nami-indiana-state-conference/
END:VEVENT
BEGIN:VEVENT
DTSTART;TZID=UTC:20191010T130000
DTEND;TZID=UTC:20191010T150000
DTSTAMP:20260420T083604
CREATED:20190501T125952Z
LAST-MODIFIED:20190611T014604Z
UID:29-1570712400-1570719600@stigmaneverhelps.com
SUMMARY:Indiana Recovery Council Meeting
DESCRIPTION:
URL:https://stigmaneverhelps.com/event/indiana-recovery-council-meeting-2/
LOCATION:Fairbanks Recovery Center\, Indianapolis\, IN\, United States
END:VEVENT
BEGIN:VEVENT
DTSTART;VALUE=DATE:20191003
DTEND;VALUE=DATE:20191005
DTSTAMP:20260420T083604
CREATED:20190501T125842Z
LAST-MODIFIED:20190611T014610Z
UID:27-1570060800-1570233599@stigmaneverhelps.com
SUMMARY:Indiana Coalition Against Domestic Violence State Conference
DESCRIPTION:Renaissance Carmel
URL:https://stigmaneverhelps.com/event/indiana-coalition-against-domestic-violence-state-conference/
END:VEVENT
BEGIN:VEVENT
DTSTART;VALUE=DATE:20190923
DTEND;VALUE=DATE:20190925
DTSTAMP:20260420T083604
CREATED:20190501T125746Z
LAST-MODIFIED:20190822T123445Z
UID:25-1569196800-1569369599@stigmaneverhelps.com
SUMMARY:INARMS
DESCRIPTION:https://www.in.gov/fssa/dmha/3374.htm
URL:https://stigmaneverhelps.com/event/inarms/
END:VEVENT
BEGIN:VEVENT
DTSTART;TZID=America/Indiana/Indianapolis:20190912T130000
DTEND;TZID=America/Indiana/Indianapolis:20190912T150000
DTSTAMP:20260420T083604
CREATED:20190501T125700Z
LAST-MODIFIED:20190611T014620Z
UID:23-1568293200-1568300400@stigmaneverhelps.com
SUMMARY:Indiana Recovery Council Meeting
DESCRIPTION:
URL:https://stigmaneverhelps.com/event/indiana-recovery-council-meeting-3/
LOCATION:Fairbanks Recovery Center\, Indianapolis\, IN\, United States
END:VEVENT
BEGIN:VEVENT
DTSTART;TZID=UTC:20190907T103000
DTEND;TZID=UTC:20190907T150000
DTSTAMP:20260420T083604
CREATED:20190715T235328Z
LAST-MODIFIED:20190715T235328Z
UID:815-1567852200-1567868400@stigmaneverhelps.com
SUMMARY:Indiana Addictions Issues Coalition Recovery Rally
DESCRIPTION:Saturday\, September 7\, 2019\n601 W. New York Street\nIndianapolis \nRide and Walk 10:30 am – 12 pm\nSpeakers\, Food Vendors\, Kids: Zone 12 pm\nLive Music 1:00 – 3:00 pm \nTo Register: www.purplepass.com/recoveryrally \nFor Sponsorships\, Booth Space\, Volunteer\nContact: Jodi Miller jmiller@mhai.net
URL:https://stigmaneverhelps.com/event/indiana-addictions-issues-coalition-recovery-rally/
ORGANIZER;CN="":MAILTO:jmiller@mhai.net
END:VEVENT
BEGIN:VEVENT
DTSTART;TZID=America/Indiana/Indianapolis:20190808T130000
DTEND;TZID=America/Indiana/Indianapolis:20190808T150000
DTSTAMP:20260420T083604
CREATED:20190501T125303Z
LAST-MODIFIED:20190611T014625Z
UID:21-1565269200-1565276400@stigmaneverhelps.com
SUMMARY:Indiana Recovery Council Meeting
DESCRIPTION:
URL:https://stigmaneverhelps.com/event/indiana-recovery-council-meeting-4/
LOCATION:Fairbanks Recovery Center\, Indianapolis\, IN\, United States
END:VEVENT
BEGIN:VEVENT
DTSTART;VALUE=DATE:20190802
DTEND;VALUE=DATE:20190803
DTSTAMP:20260420T083604
CREATED:20190501T125424Z
LAST-MODIFIED:20190611T014629Z
UID:18-1564704000-1564790399@stigmaneverhelps.com
SUMMARY:Indiana State Suicide Prevention Conference
DESCRIPTION:
URL:https://stigmaneverhelps.com/event/indiana-state-suicide-prevention-conference/
LOCATION:Valparaiso University\, IN\, United States
END:VEVENT
BEGIN:VEVENT
DTSTART;TZID=UTC:20190724T080000
DTEND;TZID=UTC:20190727T000000
DTSTAMP:20260420T083604
CREATED:20190715T234708Z
LAST-MODIFIED:20190715T234708Z
UID:810-1563955200-1564185600@stigmaneverhelps.com
SUMMARY:National Urban League Annual Conference 2019
DESCRIPTION:Community Day – July 27
URL:https://stigmaneverhelps.com/event/national-urban-league-annual-conference-2019/
LOCATION:Indianapolis Convention Center\, 100 S Capitol Ave\, Indianapolis\, IN\, 46225\, United States
END:VEVENT
BEGIN:VEVENT
DTSTART;TZID=America/Indiana/Indianapolis:20190718T080000
DTEND;TZID=America/Indiana/Indianapolis:20190719T170000
DTSTAMP:20260420T083604
CREATED:20190501T125448Z
LAST-MODIFIED:20190611T014640Z
UID:16-1563436800-1563555600@stigmaneverhelps.com
SUMMARY:Susan Li Conference
DESCRIPTION:
URL:https://stigmaneverhelps.com/event/susan-li-conference/
LOCATION:Fairbanks Recovery Center\, Indianapolis\, IN\, United States
END:VEVENT
BEGIN:VEVENT
DTSTART;TZID=America/Indiana/Indianapolis:20190711T130000
DTEND;TZID=America/Indiana/Indianapolis:20190711T150000
DTSTAMP:20260420T083604
CREATED:20190501T124936Z
LAST-MODIFIED:20190611T014634Z
UID:13-1562850000-1562857200@stigmaneverhelps.com
SUMMARY:Indiana Recovery Council Meeting
DESCRIPTION:
URL:https://stigmaneverhelps.com/event/indiana-recovery-council-meeting-5/
LOCATION:Fairbanks Recovery Center\, Indianapolis\, IN\, United States
END:VEVENT
BEGIN:VEVENT
DTSTART;VALUE=DATE:20190621
DTEND;VALUE=DATE:20190622
DTSTAMP:20260420T083604
CREATED:20190501T125516Z
LAST-MODIFIED:20190611T014648Z
UID:6-1561075200-1561161599@stigmaneverhelps.com
SUMMARY:MHAI Annual Symposium
DESCRIPTION:
URL:https://stigmaneverhelps.com/event/mhai-annual-symposium/
LOCATION:Union Station\, Indianapolis\, United States
END:VEVENT
BEGIN:VEVENT
DTSTART;TZID=America/Indiana/Indianapolis:20190613T130000
DTEND;TZID=America/Indiana/Indianapolis:20190613T150000
DTSTAMP:20260420T083604
CREATED:20190521T164115Z
LAST-MODIFIED:20190611T014656Z
UID:11-1560430800-1560438000@stigmaneverhelps.com
SUMMARY:Indiana Recovery Council Meeting
DESCRIPTION:
URL:https://stigmaneverhelps.com/event/indiana-recovery-council-meeting/
LOCATION:Fairbanks Recovery Center\, Indianapolis\, IN\, United States
END:VEVENT
END:VCALENDAR